BEGIN:VCALENDAR
VERSION:2.0
PRODID:-//SAFD Houston. Society For The Advancement Of Floral Design - ECPv6.15.20//NONSGML v1.0//EN
CALSCALE:GREGORIAN
METHOD:PUBLISH
X-ORIGINAL-URL:http://www.safdhouston.org/wp
X-WR-CALDESC:Events for SAFD Houston. Society For The Advancement Of Floral Design
REFRESH-INTERVAL;VALUE=DURATION:PT1H
X-Robots-Tag:noindex
X-PUBLISHED-TTL:PT1H
BEGIN:VTIMEZONE
TZID:America/Chicago
BEGIN:DAYLIGHT
TZOFFSETFROM:-0600
TZOFFSETTO:-0500
TZNAME:CDT
DTSTART:20190310T080000
END:DAYLIGHT
BEGIN:STANDARD
TZOFFSETFROM:-0500
TZOFFSETTO:-0600
TZNAME:CST
DTSTART:20191103T070000
END:STANDARD
BEGIN:DAYLIGHT
TZOFFSETFROM:-0600
TZOFFSETTO:-0500
TZNAME:CDT
DTSTART:20200308T080000
END:DAYLIGHT
BEGIN:STANDARD
TZOFFSETFROM:-0500
TZOFFSETTO:-0600
TZNAME:CST
DTSTART:20201101T070000
END:STANDARD
BEGIN:DAYLIGHT
TZOFFSETFROM:-0600
TZOFFSETTO:-0500
TZNAME:CDT
DTSTART:20210314T080000
END:DAYLIGHT
BEGIN:STANDARD
TZOFFSETFROM:-0500
TZOFFSETTO:-0600
TZNAME:CST
DTSTART:20211107T070000
END:STANDARD
BEGIN:DAYLIGHT
TZOFFSETFROM:-0600
TZOFFSETTO:-0500
TZNAME:CDT
DTSTART:20220313T080000
END:DAYLIGHT
BEGIN:STANDARD
TZOFFSETFROM:-0500
TZOFFSETTO:-0600
TZNAME:CST
DTSTART:20221106T070000
END:STANDARD
BEGIN:DAYLIGHT
TZOFFSETFROM:-0600
TZOFFSETTO:-0500
TZNAME:CDT
DTSTART:20230312T080000
END:DAYLIGHT
BEGIN:STANDARD
TZOFFSETFROM:-0500
TZOFFSETTO:-0600
TZNAME:CST
DTSTART:20231105T070000
END:STANDARD
BEGIN:DAYLIGHT
TZOFFSETFROM:-0600
TZOFFSETTO:-0500
TZNAME:CDT
DTSTART:20240310T080000
END:DAYLIGHT
BEGIN:STANDARD
TZOFFSETFROM:-0500
TZOFFSETTO:-0600
TZNAME:CST
DTSTART:20241103T070000
END:STANDARD
END:VTIMEZONE
BEGIN:VEVENT
DTSTART;TZID=America/Chicago:20230321T183000
DTEND;TZID=America/Chicago:20230321T210000
DTSTAMP:20260423T125126
CREATED:20230201T234146Z
LAST-MODIFIED:20230201T234207Z
UID:1402-1679423400-1679432400@www.safdhouston.org
SUMMARY:SAFD General Meeting Presenter Alan Masters\, AIFD
DESCRIPTION:Social 6:30. Refreshments \nMeeting= 7:00  Alan Masters AIFD\n 
URL:http://www.safdhouston.org/wp/event/safd-general-meeting-presenter-alan-masters-aifd/
LOCATION:Christ the Good Shepherd Church. Room B-207\, B-209 which is located upstairs of the church office building.\, 18511 Klein Church Rd\, Spring\, TX 77379\, Spring\, TX\, 77379\, United States
END:VEVENT
BEGIN:VEVENT
DTSTART;TZID=America/Chicago:20230318T100000
DTEND;TZID=America/Chicago:20230318T170000
DTSTAMP:20260423T125126
CREATED:20230302T041049Z
LAST-MODIFIED:20230302T041127Z
UID:1485-1679133600-1679158800@www.safdhouston.org
SUMMARY:Pearl Fincher Floral Art Show
DESCRIPTION:
URL:http://www.safdhouston.org/wp/event/pearl-fincher-floral-art-show/
LOCATION:Pearl Fincher Museum\, 6815 Cypresswood Dr.\, Spring\, Texas\, 77379
END:VEVENT
BEGIN:VEVENT
DTSTART;TZID=America/Chicago:20230117T183000
DTEND;TZID=America/Chicago:20230117T210000
DTSTAMP:20260423T125126
CREATED:20230106T044144Z
LAST-MODIFIED:20230106T044144Z
UID:1393-1673980200-1673989200@www.safdhouston.org
SUMMARY:SAFD General Meeting Presenter= Bill McKinnley
DESCRIPTION:Dr. William “Bill” McKinley is an instructional associate professor and director and Endowed Chair of the Benz School of Floral Design in the Department of Horticultural Sciences of the Texas A&M College of Agriculture and Life Sciences\, \n  \n6:30 Social= Refreshments \n7:00 Meeting
URL:http://www.safdhouston.org/wp/event/safd-general-meeting-presenter-bill-mckinnley/
LOCATION:Christ the Good Shepherd Church. Room B-207\, B-209 which is located upstairs of the church office building.\, 18511 Klein Church Rd\, Spring\, TX 77379\, Spring\, TX\, 77379\, United States
END:VEVENT
BEGIN:VEVENT
DTSTART;TZID=America/Chicago:20221115T183000
DTEND;TZID=America/Chicago:20221115T210000
DTSTAMP:20260423T125126
CREATED:20221017T014620Z
LAST-MODIFIED:20221018T033008Z
UID:1351-1668537000-1668546000@www.safdhouston.org
SUMMARY:SAFD General Meeting Designer Mark Rusinger
DESCRIPTION:We are pleased to welcome back to our November meeting a previous presenter and table top designer\, Mark Rusinger.  Mark is joint proprietor and head florist at Mark Anthony Florist.  He is an accomplished designer that has served the greater Houston area since 1973.  His career started with Galloway’s Florist in Houston.  Mark generously commits his time to share his vast knowledge of all aspects of the floral industry from sourcing to educating his proven design concepts and techniques.  While Mark has been requested to present at many local garden club events over the years\, his teaching engagements have also carried him abroad such as to Japan.  
URL:http://www.safdhouston.org/wp/event/safd-general-meeting-information-to-follow/
LOCATION:Christ the Good Shepherd Church. Room B-207\, B-209 which is located upstairs of the church office building.\, 18511 Klein Church Rd\, Spring\, TX 77379\, Spring\, TX\, 77379\, United States
END:VEVENT
BEGIN:VEVENT
DTSTART;TZID=America/Chicago:20221106T120000
DTEND;TZID=America/Chicago:20221106T150000
DTSTAMP:20260423T125126
CREATED:20221018T034308Z
LAST-MODIFIED:20221018T034314Z
UID:1385-1667736000-1667746800@www.safdhouston.org
SUMMARY:Life in Rose Farm Grand Opening
DESCRIPTION:Visit the Facebook page= Life in Rose Farm for Wonderful Pictures and more information.
URL:http://www.safdhouston.org/wp/event/life-in-rose-farm-grand-opening/
LOCATION:Texas
END:VEVENT
BEGIN:VEVENT
DTSTART;TZID=America/Chicago:20220920T183000
DTEND;TZID=America/Chicago:20220920T210000
DTSTAMP:20260423T125126
CREATED:20220828T201456Z
LAST-MODIFIED:20220911T174202Z
UID:1325-1663698600-1663707600@www.safdhouston.org
SUMMARY:September 20\, 2022 General Meeting
DESCRIPTION:Presenter= Debbie Lyon AIFD of Blooming Idea Florists
URL:http://www.safdhouston.org/wp/event/september-20-2022-general-meeting/
LOCATION:Christ the Good Shepherd Church. Room B-207\, B-209 which is located upstairs of the church office building.\, 18511 Klein Church Rd\, Spring\, TX 77379\, Spring\, TX\, 77379\, United States
END:VEVENT
BEGIN:VEVENT
DTSTART;TZID=America/Chicago:20220517T183000
DTEND;TZID=America/Chicago:20220517T210000
DTSTAMP:20260423T125126
CREATED:20220505T162137Z
LAST-MODIFIED:20220509T022052Z
UID:1112-1652812200-1652821200@www.safdhouston.org
SUMMARY:SAFD Meeting Presenter: Michael McCarthy
DESCRIPTION:Next SAFD Meeting May 17\, 2022 Presenter is Michael McCarthy\, Mary McCarthy and Hallie Morrison. @ Christ Good Shepherd Church\n\nSocial: Drinks and snacks. at 6:30\n\nPresentation will be  Wedding Bouquets.
URL:http://www.safdhouston.org/wp/event/safd-meeting-presenter-michael-mccarthy-christ-the-good-shepherd-church/
LOCATION:Christ the Good Shepherd Church. Room B-207\, B-209 which is located upstairs of the church office building.\, 18511 Klein Church Rd\, Spring\, TX 77379\, Spring\, TX\, 77379\, United States
END:VEVENT
BEGIN:VEVENT
DTSTART;TZID=America/Chicago:20220421T170000
DTEND;TZID=America/Chicago:20220421T210000
DTSTAMP:20260423T125126
CREATED:20220415T030038Z
LAST-MODIFIED:20220415T030258Z
UID:1099-1650560400-1650574800@www.safdhouston.org
SUMMARY:SAFD Houston Tabletop Gala Extravaganza @ Augusta Pines Golf Club
DESCRIPTION:Doors open at 5:00 for viewing of Table Designs.\n\nDinner served at 6:30
URL:http://www.safdhouston.org/wp/event/safd-houston-tabletop-gala-extravaganza-augusta-pines-golf-club/
LOCATION:Texas
END:VEVENT
BEGIN:VEVENT
DTSTART;TZID=America/Chicago:20220325T170000
DTEND;TZID=America/Chicago:20220325T170000
DTSTAMP:20260423T125126
CREATED:20220310T022709Z
LAST-MODIFIED:20220310T022709Z
UID:1084-1648227600-1648227600@www.safdhouston.org
SUMMARY:Pearl Fincher Full Bloom Floral Show
DESCRIPTION:
URL:http://www.safdhouston.org/wp/event/pearl-fincher-full-bloom-floral-show/
LOCATION:Pearl Fincher Museum\, 6815 Cypresswood Dr.\, Spring\, Texas\, 77379
END:VEVENT
BEGIN:VEVENT
DTSTART;TZID=America/Chicago:20220315T183000
DTEND;TZID=America/Chicago:20220315T210000
DTSTAMP:20260423T125126
CREATED:20220213T043208Z
LAST-MODIFIED:20220213T043416Z
UID:1078-1647369000-1647378000@www.safdhouston.org
SUMMARY:Designer Che-hwa Wang as our presenter for March. Member  of the Houston Ikebana Chapter 12.
DESCRIPTION:Designer Che-hwa Wang as our presenter for March. She is a member of the Houston Ikebana Chapter 12. She will demonstrate contemporary Ikebana style floral arrangements.\nSocial begins at 6:30
URL:http://www.safdhouston.org/wp/event/programs-linda-has-designer-che-hwa-wang-as-our-presenter-for-march-member-of-the-houston-ikebana-chapter-12/
LOCATION:Christ the Good Shepherd Church. Room B-207\, B-209 which is located upstairs of the church office building.\, 18511 Klein Church Rd\, Spring\, TX 77379\, Spring\, TX\, 77379\, United States
END:VEVENT
BEGIN:VEVENT
DTSTART;TZID=America/Chicago:20220118T183000
DTEND;TZID=America/Chicago:20220118T210000
DTSTAMP:20260423T125126
CREATED:20211201T051027Z
LAST-MODIFIED:20211201T051027Z
UID:970-1642530600-1642539600@www.safdhouston.org
SUMMARY:Ken Senter\, AIFD of  "The Senterpiece Florist"
DESCRIPTION:
URL:http://www.safdhouston.org/wp/event/ken-senter-aifd-of-the-senterpiece-florist/
LOCATION:Christ the Good Shepherd Church. Room B-207\, B-209 which is located upstairs of the church office building.\, 18511 Klein Church Rd\, Spring\, TX 77379\, Spring\, TX\, 77379\, United States
END:VEVENT
BEGIN:VEVENT
DTSTART;TZID=America/Chicago:20211116T183000
DTEND;TZID=America/Chicago:20211116T210000
DTSTAMP:20260423T125126
CREATED:20211018T015050Z
LAST-MODIFIED:20211018T015050Z
UID:963-1637087400-1637096400@www.safdhouston.org
SUMMARY:Presenter = Alex Torres. AIFD
DESCRIPTION:
URL:http://www.safdhouston.org/wp/event/presenter-alex-torres-aifd/
LOCATION:Christ the Good Shepherd Church. Room B-207\, B-209 which is located upstairs of the church office building.\, 18511 Klein Church Rd\, Spring\, TX 77379\, Spring\, TX\, 77379\, United States
END:VEVENT
BEGIN:VEVENT
DTSTART;TZID=America/Chicago:20210921T183000
DTEND;TZID=America/Chicago:20210921T210000
DTSTAMP:20260423T125126
CREATED:20210907T035015Z
LAST-MODIFIED:20210907T035015Z
UID:917-1632249000-1632258000@www.safdhouston.org
SUMMARY:SAFD in person meeting with Talented Presenter= Karen Goza\, AIFD
DESCRIPTION:
URL:http://www.safdhouston.org/wp/event/safd-in-person-meeting-with-talented-presenter-karen-goza-aifd/
LOCATION:Christ the Good Shepherd Church. Room B-207\, B-209 which is located upstairs of the church office building.\, 18511 Klein Church Rd\, Spring\, TX 77379\, Spring\, TX\, 77379\, United States
END:VEVENT
BEGIN:VEVENT
DTSTART;TZID=America/Chicago:20210518T190000
DTEND;TZID=America/Chicago:20210518T203000
DTSTAMP:20260423T125126
CREATED:20210501T033049Z
LAST-MODIFIED:20210501T033049Z
UID:891-1621364400-1621369800@www.safdhouston.org
SUMMARY:Facebook Live Virtual Event = Presenter Rick Butler
DESCRIPTION:
URL:http://www.safdhouston.org/wp/event/facebook-live-virtual-event-presenter-rick-butler/
LOCATION:FACEBOOK  LIVE
END:VEVENT
BEGIN:VEVENT
DTSTART;TZID=America/Chicago:20210316T190000
DTEND;TZID=America/Chicago:20210316T203000
DTSTAMP:20260423T125126
CREATED:20210201T052002Z
LAST-MODIFIED:20210201T052002Z
UID:755-1615921200-1615926600@www.safdhouston.org
SUMMARY:Maggie Bell from Bramble & Bee on Facebook Live
DESCRIPTION:
URL:http://www.safdhouston.org/wp/event/maggie-bell-from-bramble-bee-on-facebook-live/
LOCATION:FACEBOOK  LIVE
END:VEVENT
BEGIN:VEVENT
DTSTART;TZID=America/Chicago:20210119T190000
DTEND;TZID=America/Chicago:20210119T203000
DTSTAMP:20260423T125126
CREATED:20201219T044057Z
LAST-MODIFIED:20201219T044057Z
UID:652-1611082800-1611088200@www.safdhouston.org
SUMMARY:Alan Masters Presents "Under Construction: An Architectural Approach to Tabletop"
DESCRIPTION:
URL:http://www.safdhouston.org/wp/event/alan-masters-presents-under-construction-an-architectural-approach-to-tabletop/
LOCATION:FACEBOOK  LIVE
END:VEVENT
BEGIN:VEVENT
DTSTART;TZID=America/Chicago:20201215T190000
DTEND;TZID=America/Chicago:20201215T203000
DTSTAMP:20260423T125127
CREATED:20201118T222959Z
LAST-MODIFIED:20201118T223107Z
UID:625-1608058800-1608064200@www.safdhouston.org
SUMMARY:12-15-2020  Facebook Live Christmas theme by Cathy Bickford
DESCRIPTION:Please join us on Facebook Live. SAFD Facebook Page\nSociety for the Advancement of Floral Design\nLive presentation by Cathy Bickford with a Christmas Theme.
URL:http://www.safdhouston.org/wp/event/12-15-2020-facebook-live-christmas-theme-by-cathy-bickford/
LOCATION:FACEBOOK  LIVE
END:VEVENT
BEGIN:VEVENT
DTSTART;TZID=America/Chicago:20201020T190000
DTEND;TZID=America/Chicago:20201020T203000
DTSTAMP:20260423T125127
CREATED:20200910T034332Z
LAST-MODIFIED:20201006T224148Z
UID:536-1603220400-1603225800@www.safdhouston.org
SUMMARY:October General Meeting Virtual on Facebook Live October 20\, 2020
DESCRIPTION:Please sign in to Facebook Live for a special presentation by \nMichelle Leavitt and Deborah Tingey.
URL:http://www.safdhouston.org/wp/event/october-general-meeting-virtual-on-facebook-live-october-20-2020/
LOCATION:FACEBOOK  LIVE
END:VEVENT
BEGIN:VEVENT
DTSTART;TZID=America/Chicago:20200915T190000
DTEND;TZID=America/Chicago:20200915T203000
DTSTAMP:20260423T125127
CREATED:20200909T235302Z
LAST-MODIFIED:20200909T235302Z
UID:531-1600196400-1600201800@www.safdhouston.org
SUMMARY:Facebook Live September 15\, 2020 7:00 pm  Diana Hanley  instruction "Beautiful Wreaths"
DESCRIPTION:If you do not have a Facebook account\, please create one to join our first Virtual Meeting. \nGo to Facebook and add Society for Advancement of Floral Design \nDiana Hanley is doing a live presentation to show us how to make two types of wreaths.
URL:http://www.safdhouston.org/wp/event/facebook-live-september-15-2020-700-pm-diana-hanley-instruction-beautiful-wreaths/
LOCATION:FACEBOOK  LIVE
END:VEVENT
BEGIN:VEVENT
DTSTART;TZID=America/Chicago:20200731T150000
DTEND;TZID=America/Chicago:20200731T170000
DTSTAMP:20260423T125127
CREATED:20200731T051328Z
LAST-MODIFIED:20200731T051343Z
UID:437-1596207600-1596214800@www.safdhouston.org
SUMMARY:TSFA Virtual Learning with Charlie Groppetti  AIFD
DESCRIPTION:TSFA Virtual Learning With Charlie Groppetti AIFD \n\n\nJuly 31\, 2020 3:00 pm CST \n\n\n\n\n\n\n\n\n\n\n\n\n\n\n\n\n\n\n\n\n\n\n\n \n\n\n\n\n\n\n\n\n\n\n\n\n\n\n\n\n\n\n\n\n\n\n\nJoin Charlie Groppetti AIFD this Friday\, July 31st @ 3PM CST as he cuts from the landscape to create bouquets perfect for a summer setting! Our LIVE Virtual Learning Sessions max out at 100 and they fill up! \n  \nThe Virtual Learning Session is free to the floral industry and made possible by the Texas Education Underwriters listed below. \n  \nReserve your spot here! \nVirtual Learning Schedule
URL:http://www.safdhouston.org/wp/event/tsfa-virtual-learning-with-charlie-groppetti-aifd/
LOCATION:Texas
END:VEVENT
END:VCALENDAR