BEGIN:VCALENDAR
VERSION:2.0
PRODID:-//SAFD Houston. Society For The Advancement Of Floral Design - ECPv6.15.20//NONSGML v1.0//EN
CALSCALE:GREGORIAN
METHOD:PUBLISH
X-ORIGINAL-URL:http://www.safdhouston.org/wp
X-WR-CALDESC:Events for SAFD Houston. Society For The Advancement Of Floral Design
REFRESH-INTERVAL;VALUE=DURATION:PT1H
X-Robots-Tag:noindex
X-PUBLISHED-TTL:PT1H
BEGIN:VTIMEZONE
TZID:America/Chicago
BEGIN:DAYLIGHT
TZOFFSETFROM:-0600
TZOFFSETTO:-0500
TZNAME:CDT
DTSTART:20250309T080000
END:DAYLIGHT
BEGIN:STANDARD
TZOFFSETFROM:-0500
TZOFFSETTO:-0600
TZNAME:CST
DTSTART:20251102T070000
END:STANDARD
BEGIN:DAYLIGHT
TZOFFSETFROM:-0600
TZOFFSETTO:-0500
TZNAME:CDT
DTSTART:20260308T080000
END:DAYLIGHT
BEGIN:STANDARD
TZOFFSETFROM:-0500
TZOFFSETTO:-0600
TZNAME:CST
DTSTART:20261101T070000
END:STANDARD
BEGIN:DAYLIGHT
TZOFFSETFROM:-0600
TZOFFSETTO:-0500
TZNAME:CDT
DTSTART:20270314T080000
END:DAYLIGHT
BEGIN:STANDARD
TZOFFSETFROM:-0500
TZOFFSETTO:-0600
TZNAME:CST
DTSTART:20271107T070000
END:STANDARD
END:VTIMEZONE
BEGIN:VEVENT
DTSTART;TZID=America/Chicago:20260423T170000
DTEND;TZID=America/Chicago:20260423T210000
DTSTAMP:20260423T182904
CREATED:20260420T002953Z
LAST-MODIFIED:20260420T003233Z
UID:2431-1776963600-1776978000@www.safdhouston.org
SUMMARY:SAFD  Annual Tabletop Gala April 23\, 2026 Augusta Pines Golf Club
DESCRIPTION:Doors open at 5:00 pm.  Dinner served at 6:30pm Silent Auction and Raffle tickets sold for two $250.00 gift cards.\n 
URL:http://www.safdhouston.org/wp/event/safd-annual-tabletop-gala-april-23-2026-augusta-pines-golf-club/
LOCATION:Augusta Pines Golf Club  18 Augusta Pines Dr.  Spring\, Texas  77379
END:VEVENT
END:VCALENDAR