BEGIN:VCALENDAR
VERSION:2.0
PRODID:-//SAFD Houston. Society For The Advancement Of Floral Design - ECPv6.15.20//NONSGML v1.0//EN
CALSCALE:GREGORIAN
METHOD:PUBLISH
X-ORIGINAL-URL:http://www.safdhouston.org/wp
X-WR-CALDESC:Events for SAFD Houston. Society For The Advancement Of Floral Design
REFRESH-INTERVAL;VALUE=DURATION:PT1H
X-Robots-Tag:noindex
X-PUBLISHED-TTL:PT1H
BEGIN:VTIMEZONE
TZID:America/Chicago
BEGIN:DAYLIGHT
TZOFFSETFROM:-0600
TZOFFSETTO:-0500
TZNAME:CDT
DTSTART:20210314T080000
END:DAYLIGHT
BEGIN:STANDARD
TZOFFSETFROM:-0500
TZOFFSETTO:-0600
TZNAME:CST
DTSTART:20211107T070000
END:STANDARD
BEGIN:DAYLIGHT
TZOFFSETFROM:-0600
TZOFFSETTO:-0500
TZNAME:CDT
DTSTART:20220313T080000
END:DAYLIGHT
BEGIN:STANDARD
TZOFFSETFROM:-0500
TZOFFSETTO:-0600
TZNAME:CST
DTSTART:20221106T070000
END:STANDARD
BEGIN:DAYLIGHT
TZOFFSETFROM:-0600
TZOFFSETTO:-0500
TZNAME:CDT
DTSTART:20230312T080000
END:DAYLIGHT
BEGIN:STANDARD
TZOFFSETFROM:-0500
TZOFFSETTO:-0600
TZNAME:CST
DTSTART:20231105T070000
END:STANDARD
BEGIN:DAYLIGHT
TZOFFSETFROM:-0600
TZOFFSETTO:-0500
TZNAME:CDT
DTSTART:20240310T080000
END:DAYLIGHT
BEGIN:STANDARD
TZOFFSETFROM:-0500
TZOFFSETTO:-0600
TZNAME:CST
DTSTART:20241103T070000
END:STANDARD
BEGIN:DAYLIGHT
TZOFFSETFROM:-0600
TZOFFSETTO:-0500
TZNAME:CDT
DTSTART:20250309T080000
END:DAYLIGHT
BEGIN:STANDARD
TZOFFSETFROM:-0500
TZOFFSETTO:-0600
TZNAME:CST
DTSTART:20251102T070000
END:STANDARD
BEGIN:DAYLIGHT
TZOFFSETFROM:-0600
TZOFFSETTO:-0500
TZNAME:CDT
DTSTART:20260308T080000
END:DAYLIGHT
BEGIN:STANDARD
TZOFFSETFROM:-0500
TZOFFSETTO:-0600
TZNAME:CST
DTSTART:20261101T070000
END:STANDARD
BEGIN:DAYLIGHT
TZOFFSETFROM:-0600
TZOFFSETTO:-0500
TZNAME:CDT
DTSTART:20270314T080000
END:DAYLIGHT
BEGIN:STANDARD
TZOFFSETFROM:-0500
TZOFFSETTO:-0600
TZNAME:CST
DTSTART:20271107T070000
END:STANDARD
END:VTIMEZONE
BEGIN:VEVENT
DTSTART;TZID=America/Chicago:20260316T183000
DTEND;TZID=America/Chicago:20260316T210000
DTSTAMP:20260423T111828
CREATED:20260208T044014Z
LAST-MODIFIED:20260208T044014Z
UID:2359-1773685800-1773694800@www.safdhouston.org
SUMMARY:SAFD General Meeting  Hands on Member take home Arrangement 30 people
DESCRIPTION:SAFD is having a Members only hands on Workshop for first thirty people that sign up.  Arrangement to take home.  Cost will be announced on our SAFD Blast.  Social providing snacks at 6:30.  Meeting starts at 7:00 pm.\n  \n 
URL:http://www.safdhouston.org/wp/event/safd-general-meeting-hands-on-member-take-home-arrangement-30-people/
LOCATION:The Church of Jesus Christ of Latter- Day Saints 16833 T C Jester Blvd\, Spring\, TX 77379\, TX
END:VEVENT
BEGIN:VEVENT
DTSTART;TZID=America/Chicago:20260221T100000
DTEND;TZID=America/Chicago:20260221T120000
DTSTAMP:20260423T111828
CREATED:20260208T052012Z
LAST-MODIFIED:20260208T052142Z
UID:2374-1771668000-1771675200@www.safdhouston.org
SUMMARY:Saturday February 21\, 2026  Christ Good Shepherd Church
DESCRIPTION:Members will volunteer to make 23 arrangements for Spring Cypress Senior Living. Meeting at Christ the Good Shepherd Church from 10:00 am to 12:00 pm. Room B211.\n  \n 
URL:http://www.safdhouston.org/wp/event/saturday-february-21-2026-christ-good-shepherd-church/
LOCATION:Christ Good Shepherd Church Room B-211
END:VEVENT
BEGIN:VEVENT
DTSTART;TZID=America/Chicago:20260119T183000
DTEND;TZID=America/Chicago:20260119T210000
DTSTAMP:20260423T111828
CREATED:20260103T040446Z
LAST-MODIFIED:20260103T040446Z
UID:2354-1768847400-1768856400@www.safdhouston.org
SUMMARY:Meeting January 19\, 2026  Presenter= Mary McCarthy of The Blooming Idea
DESCRIPTION:Committed to staying current with evolving design techniques and trends\, Mary continually invests in her education—regularly attending design shows\, workshops\, and taking full advantage of the educational programs offered by the Texas State Florists’ Association. She earned her Texas Master Florist Advanced Certification (TMFA) and is an accredited member of the prestigious American Institute of Floral Designers (AIFD). In 2022\, Mary was honored to be named Texas Designer of the Year\, a reflection of her dedication\, artistry\, and longstanding passion for floral design.
URL:http://www.safdhouston.org/wp/event/meeting-january-19-2026-presenter-mary-mccarthy-of-the-blooming-idea/
LOCATION:The Church of Jesus Christ of Latter- Day Saints 16833 T C Jester Blvd\, Spring\, TX 77379\, TX
END:VEVENT
BEGIN:VEVENT
DTSTART;TZID=America/Chicago:20251117T173000
DTEND;TZID=America/Chicago:20251117T210000
DTSTAMP:20260423T111828
CREATED:20251001T011715Z
LAST-MODIFIED:20251024T035208Z
UID:2244-1763400600-1763413200@www.safdhouston.org
SUMMARY:November 17\, 2025 Lisa Stroyne of the Glass Slipper
DESCRIPTION:Pressenter= Lisa Stroyne of the Glass Slipper\n  \nSocial 6:30 to 7:00  Refreshments\nMeeting starts at 7:00 pm
URL:http://www.safdhouston.org/wp/event/november-18-2025-lisa-stroyne-of-the-glass-slipper/
LOCATION:The Church of Jesus Christ of Latter- Day Saints 16833 T C Jester Blvd\, Spring\, TX 77379\, TX
END:VEVENT
BEGIN:VEVENT
DTSTART;TZID=America/Chicago:20250916T183000
DTEND;TZID=America/Chicago:20250916T210000
DTSTAMP:20260423T111828
CREATED:20250905T000329Z
LAST-MODIFIED:20250907T011317Z
UID:2233-1758047400-1758056400@www.safdhouston.org
SUMMARY:SAFD Meeting September 16\, 2025
DESCRIPTION:Safd Meeting  7:00 pm\nSocial 6:30 to 7:00  Refreshments\nOur presenter is Maggie Bailey\, who in 2014 founded Bramble & Bee\, a floral design studio based in Tomball\, Texas\, specializing in bespoke\, garden-style floral arrangements.\n  \n 
URL:http://www.safdhouston.org/wp/event/safd-meeting-september-04-2025/
LOCATION:Christ the Good Shepherd Church. Room B-207\, B-209 which is located upstairs of the church office building.\, 18511 Klein Church Rd\, Spring\, TX 77379\, Spring\, TX\, 77379\, United States
END:VEVENT
BEGIN:VEVENT
DTSTART;TZID=America/Chicago:20250520T183000
DTEND;TZID=America/Chicago:20250520T203000
DTSTAMP:20260423T111828
CREATED:20250423T182748Z
LAST-MODIFIED:20250515T224741Z
UID:2094-1747765800-1747773000@www.safdhouston.org
SUMMARY:SAFD Meeting May 20\, 2025
DESCRIPTION:Our May Presenter has changed= \nOur presenters for this May Meeting will be two of our talented members \nPam Bates and Diana Hanley and will both make beautiful arrangements to be raffled off at the end of the meeting. \n 
URL:http://www.safdhouston.org/wp/event/safd-meeting-may-20-2025/
LOCATION:Christ the Good Shepherd Church. Room B-207\, B-209 which is located upstairs of the church office building.\, 18511 Klein Church Rd\, Spring\, TX 77379\, Spring\, TX\, 77379\, United States
END:VEVENT
BEGIN:VEVENT
DTSTART;TZID=America/Chicago:20250410T170000
DTEND;TZID=America/Chicago:20250410T213000
DTSTAMP:20260423T111828
CREATED:20250405T030710Z
LAST-MODIFIED:20250405T030905Z
UID:2091-1744304400-1744320600@www.safdhouston.org
SUMMARY:SAFD Tabletop Extravaganza @ August Pines Golf Club April 10\, 2025
DESCRIPTION:Doors open at 5:00 pm for Table viewing\nDinner served at 6:30\nCash Bar\nGift Card Raffle  \nSilent Auction items for Bidding
URL:http://www.safdhouston.org/wp/event/safd-tabletop-extravaganza-august-pines-golf-club-april-10-2025/
LOCATION:Augusta Pines Golf Club\, 18 Augusta Pines Dr.\, Spring\, TX\, 77389\, United States
ATTACH;FMTTYPE=image/jpeg:http://www.safdhouston.org/wp/wp-content/uploads/2025/04/IMG_3052-1-scaled-e1743822666247.jpeg
END:VEVENT
BEGIN:VEVENT
DTSTART;TZID=America/Chicago:20250318T183000
DTEND;TZID=America/Chicago:20250318T210000
DTSTAMP:20260423T111828
CREATED:20250228T044827Z
LAST-MODIFIED:20250313T202724Z
UID:2024-1742322600-1742331600@www.safdhouston.org
SUMMARY:March SAFD Meeting Hands on Members workshop
DESCRIPTION:March 18\, 2025  Meeting starts at 7:00 pm\nSocial & refreshments 6:30 pm\nThis meeting will be a Hands On Members workshop meeting. We will furnish the flowers for our members to make a Take Home Arrangement.  It will be an Ikebana Design.\n  \n 
URL:http://www.safdhouston.org/wp/event/march-safd-meeting/
LOCATION:Christ the Good Shepherd Church. Room B-207\, B-209 which is located upstairs of the church office building.\, 18511 Klein Church Rd\, Spring\, TX 77379\, Spring\, TX\, 77379\, United States
END:VEVENT
BEGIN:VEVENT
DTSTART;TZID=America/Chicago:20250218T183000
DTEND;TZID=America/Chicago:20250218T210000
DTSTAMP:20260423T111828
CREATED:20250112T040815Z
LAST-MODIFIED:20250117T053815Z
UID:2019-1739903400-1739912400@www.safdhouston.org
SUMMARY:February 18\, 2025 General Meeting
DESCRIPTION:Presenter will be Lisa Stroyne of Glass Slipper Designs
URL:http://www.safdhouston.org/wp/event/january-21-2025-general-meeting/
LOCATION:Christ the Good Shepherd Church. Room B-207\, B-209 which is located upstairs of the church office building.\, 18511 Klein Church Rd\, Spring\, TX 77379\, Spring\, TX\, 77379\, United States
END:VEVENT
BEGIN:VEVENT
DTSTART;TZID=America/Chicago:20241112T183000
DTEND;TZID=America/Chicago:20241112T210000
DTSTAMP:20260423T111828
CREATED:20241007T032802Z
LAST-MODIFIED:20241007T032802Z
UID:1927-1731436200-1731445200@www.safdhouston.org
SUMMARY:Alan Masters Aifd\, Cfd
DESCRIPTION:  \nAlan Masters Aifd Cfd\n  \nSocial refreshments at 6:30\nBrief meeting at 7:00 pm\n 
URL:http://www.safdhouston.org/wp/event/alan-masters-aifd-cfd/
LOCATION:Christ the Good Shepherd Church. Room B-207\, B-209 which is located upstairs of the church office building.\, 18511 Klein Church Rd\, Spring\, TX 77379\, Spring\, TX\, 77379\, United States
END:VEVENT
BEGIN:VEVENT
DTSTART;TZID=America/Chicago:20240917T183000
DTEND;TZID=America/Chicago:20240917T210000
DTSTAMP:20260423T111828
CREATED:20240821T223239Z
LAST-MODIFIED:20240828T033458Z
UID:1915-1726597800-1726606800@www.safdhouston.org
SUMMARY:SAFD Houston September Meeting at Christ the Good Shepherd
DESCRIPTION:September Presenters= Brett & Ryan of Three Dudes Farm in Montgomery\, Texas  \nCheck out the website=  Click on link below \nhttps://www.threedudesfarm.com/pages/about-us\nAbout Us – Three Dudes Farm\n  \n6:30  Social Snacks and Drinks  \n7:00 pm General Meeting.\n 
URL:http://www.safdhouston.org/wp/event/safd-houston-september-meeting-at-christ-the-good-shepherd/
LOCATION:Christ the Good Shepherd Church. Room B-207\, B-209 which is located upstairs of the church office building.\, 18511 Klein Church Rd\, Spring\, TX 77379\, Spring\, TX\, 77379\, United States
END:VEVENT
BEGIN:VEVENT
DTSTART;TZID=America/Chicago:20240521T183000
DTEND;TZID=America/Chicago:20240521T210000
DTSTAMP:20260423T111828
CREATED:20240519T040952Z
LAST-MODIFIED:20240519T040952Z
UID:1888-1716316200-1716325200@www.safdhouston.org
SUMMARY:May 21\, 2024 Monthly Meeting=  Members Hands-on Workshop Limited to 30 Members
DESCRIPTION:The last meeting before the Summer break will be a Hands-On workshop. Members will be able to make their own arrangement and take it home.\nSocial begins at 6:30 with Refreshments served. Meeting begins at 7:00.\nSee you there.
URL:http://www.safdhouston.org/wp/event/may-21-2024-monthly-meeting-members-hands-on-workshop-limited-to-30-members/
LOCATION:Christ the Good Shepherd Church. Room B-207\, B-209 which is located upstairs of the church office building.\, 18511 Klein Church Rd\, Spring\, TX 77379\, Spring\, TX\, 77379\, United States
END:VEVENT
BEGIN:VEVENT
DTSTART;TZID=America/Chicago:20240418T170000
DTEND;TZID=America/Chicago:20240418T213000
DTSTAMP:20260423T111828
CREATED:20231119T233056Z
LAST-MODIFIED:20231119T233056Z
UID:1663-1713459600-1713475800@www.safdhouston.org
SUMMARY:SAFD Houston Tabletop Gala Extravaganza @ Augusta Pines Golf Club 2024
DESCRIPTION:Doors open at 5:00 pm for Table viewing\n\nDinner served at  6:30
URL:http://www.safdhouston.org/wp/event/safd-houston-tabletop-gala-extravaganza-augusta-pines-golf-club-2024/
END:VEVENT
BEGIN:VEVENT
DTSTART;TZID=America/Chicago:20240319T183000
DTEND;TZID=America/Chicago:20240319T210000
DTSTAMP:20260423T111828
CREATED:20240207T231549Z
LAST-MODIFIED:20240318T151800Z
UID:1728-1710873000-1710882000@www.safdhouston.org
SUMMARY:March 19\, 2024   Meeting Christ Good Shepherd Church
DESCRIPTION:Lisa Stroyne\, Owner and Lead Designer\, of Glass Slipper Designs
URL:http://www.safdhouston.org/wp/event/march-19-2024-meeting-christ-good-shepherd-church/
LOCATION:Christ the Good Shepherd Church. Room B-207\, B-209 which is located upstairs of the church office building.\, 18511 Klein Church Rd\, Spring\, TX 77379\, Spring\, TX\, 77379\, United States
END:VEVENT
BEGIN:VEVENT
DTSTART;TZID=America/Chicago:20240220T183000
DTEND;TZID=America/Chicago:20240220T210000
DTSTAMP:20260423T111828
CREATED:20240207T231424Z
LAST-MODIFIED:20240207T231424Z
UID:1726-1708453800-1708462800@www.safdhouston.org
SUMMARY:February 20\, 2024   Nora Cisneros Presenter
DESCRIPTION:
URL:http://www.safdhouston.org/wp/event/february-20-2024-nora-cisneros-presenter/
LOCATION:Christ the Good Shepherd Church. Room B-207\, B-209 which is located upstairs of the church office building.\, 18511 Klein Church Rd\, Spring\, TX 77379\, Spring\, TX\, 77379\, United States
END:VEVENT
BEGIN:VEVENT
DTSTART;TZID=America/Chicago:20240116T183000
DTEND;TZID=America/Chicago:20240116T210000
DTSTAMP:20260423T111828
CREATED:20231119T233339Z
LAST-MODIFIED:20231119T235144Z
UID:1665-1705429800-1705438800@www.safdhouston.org
SUMMARY:SAFD Meeting January 16\, 2024 Christ Good Shepherd Church
DESCRIPTION:
URL:http://www.safdhouston.org/wp/event/january-16-2024-christ-good-shepherd-church/
LOCATION:Chrisht the Good Shepherd Church. Meeting in the Social Hall Building.\, 18511 Klein Church Rd.\, Spring\, Texas\, 77379
END:VEVENT
BEGIN:VEVENT
DTSTART;TZID=America/Chicago:20231202T183000
DTEND;TZID=America/Chicago:20231202T210000
DTSTAMP:20260423T111828
CREATED:20231030T184016Z
LAST-MODIFIED:20231103T040733Z
UID:1618-1701541800-1701550800@www.safdhouston.org
SUMMARY:SAFD General Meeting Hands on Workshop Take Home Wreath Design= Cost TBD
DESCRIPTION:Members to create their own design of a Holiday theme Wreath. \nCost of Workshop to be determined. Materials will be provided. Possible cost $40.00
URL:http://www.safdhouston.org/wp/event/safd-general-meeting-hands-on-workshop-take-home-wreath-design-cost-tbd/
LOCATION:Christ the Good Shepherd Church. Room B-207\, B-209 which is located upstairs of the church office building.\, 18511 Klein Church Rd\, Spring\, TX 77379\, Spring\, TX\, 77379\, United States
END:VEVENT
BEGIN:VEVENT
DTSTART;TZID=America/Chicago:20231114T183000
DTEND;TZID=America/Chicago:20231114T203000
DTSTAMP:20260423T111828
CREATED:20231103T041323Z
LAST-MODIFIED:20231103T042143Z
UID:1641-1699986600-1699993800@www.safdhouston.org
SUMMARY:SAFD Meeting 11-14-23 = Samantha Townsend\, Designer\, at CC’s Pleasures & Creations at Christ Good Shepherd Church
DESCRIPTION:6:30 to 7:00 Social  Snacks and Drinks provided.\nMeeting starts at 7:00 pm\nThis months Meeting is a Fall Presentation\nOur guest speaker for the November meeting will be Samantha Townsend\, Designer\, at CC’s Pleasures & Creations\, located in Houston\, TX. Her program will inspire us all to be ready for the Thanksgiving holiday!\nSamantha is a native Houstonian and an Oncology Nurse who has always had a passion for making people smile by creating beautiful interior and exterior décor. Her commitment to delivering meticulous event planning services in Texas has earned her company\, CC’s Pleasures and Creations\, its amazing reputation. Samantha has over 10 years of experience in designing live and silk floral arrangements\, holiday décor\, as well as coordinating parties and holiday functions.\nSamantha is also the Décor Coordinator for Lilly Grove Missionary Baptist Church and was the Décor Coordinator for The Omni Hotel- Galleria in 2021-2022. She is a founding member of the Holiday Soul Nutcracker Market and is the Vendor Curator for the National Urban League. She has partnered with All About Events Planning and Design in Houston\, TX. and is a member of the Texas State Florists Association
URL:http://www.safdhouston.org/wp/event/safd-meeting-11-18-23-samantha-townsend-designer-at-ccs-pleasures-creations-at-christ-good-shepherd-church/
LOCATION:Chrisht the Good Shepherd Church. Meeting in the Social Hall Building.\, 18511 Klein Church Rd.\, Spring\, Texas\, 77379
END:VEVENT
BEGIN:VEVENT
DTSTART;TZID=America/Chicago:20230919T183000
DTEND;TZID=America/Chicago:20230919T210000
DTSTAMP:20260423T111828
CREATED:20230825T134214Z
LAST-MODIFIED:20230825T134214Z
UID:1611-1695148200-1695157200@www.safdhouston.org
SUMMARY:Michael Segura and Cher Pesses from Craftex
DESCRIPTION:  \n\n\n\n\n\n\n\n\n\nThe Society for the Advancement of Floral Design (SAFD) will hold its first meeting of the 2023-24 season on Tuesday\, September 19th\, 2023\, at Christ the Good Shepherd Church\, located at 18511 Klein Church Rd.\, Spring\, Texas 77379.  We will be meeting in Room B-207\, B-209 which is located upstairs of the church office building. Please enter through the church office entrance. Refreshments will be served at 6:30 pm with the meeting starting at 7 pm.  \nWe are so excited to welcome Michael Segura and Cher Pesses from Craftex as our guest speakers to kick off the 2023-24 SAFD season.      \nMichael Segura has worked in the floral industry since 1985. With experience in the day-to-day operations of running a flower shop\, one of his favorite things was working on the bread and butter designs\, or what he called his “sweet nothings”. Throughout the years\, Michael’s work has been showcased in different local publications\, magazines\, and the Houston Chronicle. He has had the privilege of designing flowers for different affluent events and organizations\, such as the Opera Ball\, and UNICEF\, as well as several celebrities. Michael currently works full-time for Craftex as one of the lead designers\, one of the buyers\, and the department supervisor over floral and Christmas\, and is always happy to assist clients in any and all of their floral and decor needs.  \n\nCher Pesses has worked in the Floral and Interior Decor Industry now for 25 years. Cher has a great eye for color and texture and takes a “hands-on” approach to every project at hand.  Cher has experience in every aspect of floral work ranging from international buying and product development\, conceptual drawings and sketches\, target buying\, and engineering a project to building and construction as well as installation. Cher’s creativity ranges from creating festive tablescapes for any and all occasions\, to intimate or full-scale wedding and event planning\, to Commercial and residential Christmas installations. Cher is a designer\, buyer\, lead for ribbon\, and supervisor with Craftex.  \nThis is going to be an exciting evening that you don’t want to miss and we encourage anyone who has an interest in flowers and the art of designing to join us. We have members ranging from novice designers to floral shop owners and Texas Master Florists.  All are welcome to join us to learn and socialize together! \nFor further information\, please contact Christine Givens at 281-387-6626 or email givens3@sbcglobal.net. 
URL:http://www.safdhouston.org/wp/event/michael-segura-and-cher-pesses-from-craftex/
LOCATION:Christ the Good Shepherd Church. Room B-207\, B-209 which is located upstairs of the church office building.\, 18511 Klein Church Rd\, Spring\, TX 77379\, Spring\, TX\, 77379\, United States
END:VEVENT
BEGIN:VEVENT
DTSTART;TZID=America/Chicago:20230420T173000
DTEND;TZID=America/Chicago:20230420T213000
DTSTAMP:20260423T111828
CREATED:20230208T030959Z
LAST-MODIFIED:20230208T030959Z
UID:1468-1682011800-1682026200@www.safdhouston.org
SUMMARY:Annual SAFD Tabletop Gala
DESCRIPTION:Tabletop Gala April 20\, 2023. Augusta Pines Country Club
URL:http://www.safdhouston.org/wp/event/annual-safd-tabletop-gala/
END:VEVENT
BEGIN:VEVENT
DTSTART;TZID=America/Chicago:20230321T183000
DTEND;TZID=America/Chicago:20230321T210000
DTSTAMP:20260423T111828
CREATED:20230201T234146Z
LAST-MODIFIED:20230201T234207Z
UID:1402-1679423400-1679432400@www.safdhouston.org
SUMMARY:SAFD General Meeting Presenter Alan Masters\, AIFD
DESCRIPTION:Social 6:30. Refreshments \nMeeting= 7:00  Alan Masters AIFD\n 
URL:http://www.safdhouston.org/wp/event/safd-general-meeting-presenter-alan-masters-aifd/
LOCATION:Christ the Good Shepherd Church. Room B-207\, B-209 which is located upstairs of the church office building.\, 18511 Klein Church Rd\, Spring\, TX 77379\, Spring\, TX\, 77379\, United States
END:VEVENT
BEGIN:VEVENT
DTSTART;TZID=America/Chicago:20230318T100000
DTEND;TZID=America/Chicago:20230318T170000
DTSTAMP:20260423T111828
CREATED:20230302T041049Z
LAST-MODIFIED:20230302T041127Z
UID:1485-1679133600-1679158800@www.safdhouston.org
SUMMARY:Pearl Fincher Floral Art Show
DESCRIPTION:
URL:http://www.safdhouston.org/wp/event/pearl-fincher-floral-art-show/
LOCATION:Pearl Fincher Museum\, 6815 Cypresswood Dr.\, Spring\, Texas\, 77379
END:VEVENT
BEGIN:VEVENT
DTSTART;TZID=America/Chicago:20230117T183000
DTEND;TZID=America/Chicago:20230117T210000
DTSTAMP:20260423T111828
CREATED:20230106T044144Z
LAST-MODIFIED:20230106T044144Z
UID:1393-1673980200-1673989200@www.safdhouston.org
SUMMARY:SAFD General Meeting Presenter= Bill McKinnley
DESCRIPTION:Dr. William “Bill” McKinley is an instructional associate professor and director and Endowed Chair of the Benz School of Floral Design in the Department of Horticultural Sciences of the Texas A&M College of Agriculture and Life Sciences\, \n  \n6:30 Social= Refreshments \n7:00 Meeting
URL:http://www.safdhouston.org/wp/event/safd-general-meeting-presenter-bill-mckinnley/
LOCATION:Christ the Good Shepherd Church. Room B-207\, B-209 which is located upstairs of the church office building.\, 18511 Klein Church Rd\, Spring\, TX 77379\, Spring\, TX\, 77379\, United States
END:VEVENT
BEGIN:VEVENT
DTSTART;TZID=America/Chicago:20221115T183000
DTEND;TZID=America/Chicago:20221115T210000
DTSTAMP:20260423T111828
CREATED:20221017T014620Z
LAST-MODIFIED:20221018T033008Z
UID:1351-1668537000-1668546000@www.safdhouston.org
SUMMARY:SAFD General Meeting Designer Mark Rusinger
DESCRIPTION:We are pleased to welcome back to our November meeting a previous presenter and table top designer\, Mark Rusinger.  Mark is joint proprietor and head florist at Mark Anthony Florist.  He is an accomplished designer that has served the greater Houston area since 1973.  His career started with Galloway’s Florist in Houston.  Mark generously commits his time to share his vast knowledge of all aspects of the floral industry from sourcing to educating his proven design concepts and techniques.  While Mark has been requested to present at many local garden club events over the years\, his teaching engagements have also carried him abroad such as to Japan.  
URL:http://www.safdhouston.org/wp/event/safd-general-meeting-information-to-follow/
LOCATION:Christ the Good Shepherd Church. Room B-207\, B-209 which is located upstairs of the church office building.\, 18511 Klein Church Rd\, Spring\, TX 77379\, Spring\, TX\, 77379\, United States
END:VEVENT
BEGIN:VEVENT
DTSTART;TZID=America/Chicago:20221106T120000
DTEND;TZID=America/Chicago:20221106T150000
DTSTAMP:20260423T111828
CREATED:20221018T034308Z
LAST-MODIFIED:20221018T034314Z
UID:1385-1667736000-1667746800@www.safdhouston.org
SUMMARY:Life in Rose Farm Grand Opening
DESCRIPTION:Visit the Facebook page= Life in Rose Farm for Wonderful Pictures and more information.
URL:http://www.safdhouston.org/wp/event/life-in-rose-farm-grand-opening/
END:VEVENT
BEGIN:VEVENT
DTSTART;TZID=America/Chicago:20220920T183000
DTEND;TZID=America/Chicago:20220920T210000
DTSTAMP:20260423T111828
CREATED:20220828T201456Z
LAST-MODIFIED:20220911T174202Z
UID:1325-1663698600-1663707600@www.safdhouston.org
SUMMARY:September 20\, 2022 General Meeting
DESCRIPTION:Presenter= Debbie Lyon AIFD of Blooming Idea Florists
URL:http://www.safdhouston.org/wp/event/september-20-2022-general-meeting/
LOCATION:Christ the Good Shepherd Church. Room B-207\, B-209 which is located upstairs of the church office building.\, 18511 Klein Church Rd\, Spring\, TX 77379\, Spring\, TX\, 77379\, United States
END:VEVENT
BEGIN:VEVENT
DTSTART;TZID=America/Chicago:20220517T183000
DTEND;TZID=America/Chicago:20220517T210000
DTSTAMP:20260423T111828
CREATED:20220505T162137Z
LAST-MODIFIED:20220509T022052Z
UID:1112-1652812200-1652821200@www.safdhouston.org
SUMMARY:SAFD Meeting Presenter: Michael McCarthy
DESCRIPTION:Next SAFD Meeting May 17\, 2022 Presenter is Michael McCarthy\, Mary McCarthy and Hallie Morrison. @ Christ Good Shepherd Church\n\nSocial: Drinks and snacks. at 6:30\n\nPresentation will be  Wedding Bouquets.
URL:http://www.safdhouston.org/wp/event/safd-meeting-presenter-michael-mccarthy-christ-the-good-shepherd-church/
LOCATION:Christ the Good Shepherd Church. Room B-207\, B-209 which is located upstairs of the church office building.\, 18511 Klein Church Rd\, Spring\, TX 77379\, Spring\, TX\, 77379\, United States
END:VEVENT
BEGIN:VEVENT
DTSTART;TZID=America/Chicago:20220421T170000
DTEND;TZID=America/Chicago:20220421T210000
DTSTAMP:20260423T111828
CREATED:20220415T030038Z
LAST-MODIFIED:20220415T030258Z
UID:1099-1650560400-1650574800@www.safdhouston.org
SUMMARY:SAFD Houston Tabletop Gala Extravaganza @ Augusta Pines Golf Club
DESCRIPTION:Doors open at 5:00 for viewing of Table Designs.\n\nDinner served at 6:30
URL:http://www.safdhouston.org/wp/event/safd-houston-tabletop-gala-extravaganza-augusta-pines-golf-club/
END:VEVENT
BEGIN:VEVENT
DTSTART;TZID=America/Chicago:20220325T170000
DTEND;TZID=America/Chicago:20220325T170000
DTSTAMP:20260423T111828
CREATED:20220310T022709Z
LAST-MODIFIED:20220310T022709Z
UID:1084-1648227600-1648227600@www.safdhouston.org
SUMMARY:Pearl Fincher Full Bloom Floral Show
DESCRIPTION:
URL:http://www.safdhouston.org/wp/event/pearl-fincher-full-bloom-floral-show/
LOCATION:Pearl Fincher Museum\, 6815 Cypresswood Dr.\, Spring\, Texas\, 77379
END:VEVENT
BEGIN:VEVENT
DTSTART;TZID=America/Chicago:20220315T183000
DTEND;TZID=America/Chicago:20220315T210000
DTSTAMP:20260423T111828
CREATED:20220213T043208Z
LAST-MODIFIED:20220213T043416Z
UID:1078-1647369000-1647378000@www.safdhouston.org
SUMMARY:Designer Che-hwa Wang as our presenter for March. Member  of the Houston Ikebana Chapter 12.
DESCRIPTION:Designer Che-hwa Wang as our presenter for March. She is a member of the Houston Ikebana Chapter 12. She will demonstrate contemporary Ikebana style floral arrangements.\nSocial begins at 6:30
URL:http://www.safdhouston.org/wp/event/programs-linda-has-designer-che-hwa-wang-as-our-presenter-for-march-member-of-the-houston-ikebana-chapter-12/
LOCATION:Christ the Good Shepherd Church. Room B-207\, B-209 which is located upstairs of the church office building.\, 18511 Klein Church Rd\, Spring\, TX 77379\, Spring\, TX\, 77379\, United States
END:VEVENT
END:VCALENDAR