BEGIN:VCALENDAR
VERSION:2.0
PRODID:-//SAFD Houston. Society For The Advancement Of Floral Design - ECPv6.15.20//NONSGML v1.0//EN
CALSCALE:GREGORIAN
METHOD:PUBLISH
X-ORIGINAL-URL:http://www.safdhouston.org/wp
X-WR-CALDESC:Events for SAFD Houston. Society For The Advancement Of Floral Design
REFRESH-INTERVAL;VALUE=DURATION:PT1H
X-Robots-Tag:noindex
X-PUBLISHED-TTL:PT1H
BEGIN:VTIMEZONE
TZID:America/Chicago
BEGIN:DAYLIGHT
TZOFFSETFROM:-0600
TZOFFSETTO:-0500
TZNAME:CDT
DTSTART:20250309T080000
END:DAYLIGHT
BEGIN:STANDARD
TZOFFSETFROM:-0500
TZOFFSETTO:-0600
TZNAME:CST
DTSTART:20251102T070000
END:STANDARD
BEGIN:DAYLIGHT
TZOFFSETFROM:-0600
TZOFFSETTO:-0500
TZNAME:CDT
DTSTART:20260308T080000
END:DAYLIGHT
BEGIN:STANDARD
TZOFFSETFROM:-0500
TZOFFSETTO:-0600
TZNAME:CST
DTSTART:20261101T070000
END:STANDARD
BEGIN:DAYLIGHT
TZOFFSETFROM:-0600
TZOFFSETTO:-0500
TZNAME:CDT
DTSTART:20270314T080000
END:DAYLIGHT
BEGIN:STANDARD
TZOFFSETFROM:-0500
TZOFFSETTO:-0600
TZNAME:CST
DTSTART:20271107T070000
END:STANDARD
END:VTIMEZONE
BEGIN:VEVENT
DTSTART;TZID=America/Chicago:20260316T183000
DTEND;TZID=America/Chicago:20260316T210000
DTSTAMP:20260423T124924
CREATED:20260208T044014Z
LAST-MODIFIED:20260208T044014Z
UID:2359-1773685800-1773694800@www.safdhouston.org
SUMMARY:SAFD General Meeting  Hands on Member take home Arrangement 30 people
DESCRIPTION:SAFD is having a Members only hands on Workshop for first thirty people that sign up.  Arrangement to take home.  Cost will be announced on our SAFD Blast.  Social providing snacks at 6:30.  Meeting starts at 7:00 pm.\n  \n 
URL:http://www.safdhouston.org/wp/event/safd-general-meeting-hands-on-member-take-home-arrangement-30-people/
LOCATION:The Church of Jesus Christ of Latter- Day Saints 16833 T C Jester Blvd\, Spring\, TX 77379\, TX
END:VEVENT
END:VCALENDAR